BEGIN:VCALENDAR
VERSION:2.0
PRODID:-//Ciência no Ar - Programa de Extensão - UFMG
CALSCALE:GREGORIAN
METHOD:PUBLISH
X-WR-CALNAME:Ciência no Ar - Programa de Extensão - UFMG
X-ORIGINAL-URL:https://www.ufmg.br/ciencianoar/conteudo/intolerancia-a-lactose/
X-WR-CALDESC:Intolerância à Lactose
BEGIN:VEVENT
DTSTART:
DTEND:
SUMMARY:Intolerância à Lactose
DESCRIPTION:Mas, afinal, o que é a intolerância à lactose? Uma pessoa normalmente é capaz de obter energia da lactose por ter a enzima responsável por facilitar essa reação. Ouça o programa completo para saber mais sobre esse assunto!
LOCATION:
END:VEVENT
END:VCALENDAR
