BEGIN:VCALENDAR
VERSION:2.0
PRODID:-//Ciência no Ar - Programa de Extensão - UFMG
CALSCALE:GREGORIAN
METHOD:PUBLISH
X-WR-CALNAME:Ciência no Ar - Programa de Extensão - UFMG
X-ORIGINAL-URL:https://www.ufmg.br/ciencianoar/conteudo/ninho-diferente/
X-WR-CALDESC:Ninho Diferente
BEGIN:VEVENT
DTSTART:
DTEND:
SUMMARY:Ninho Diferente
DESCRIPTION:Vocês já imaginaram alguém construindo uma casa com a finalidade de encontrar um parceiro? No reino animal isso acontece! Diversas espécies de pássaros preparam ninhos para encontrar uma parceira, ao contrario da maioria das espécies que os criam para abrigar ovos e proteger os filhotes. Ouça o programa completo para saber mais sobre esse assunto!
LOCATION:
END:VEVENT
END:VCALENDAR
