BEGIN:VCALENDAR
VERSION:2.0
PRODID:-//Ciência no Ar - Programa de Extensão - UFMG
CALSCALE:GREGORIAN
METHOD:PUBLISH
X-WR-CALNAME:Ciência no Ar - Programa de Extensão - UFMG
X-ORIGINAL-URL:https://www.ufmg.br/ciencianoar/conteudo/poseidon-o-rei-dos-mares/
X-WR-CALDESC:Poseidon, o Rei dos Mares
BEGIN:VEVENT
DTSTART:
DTEND:
SUMMARY:Poseidon, o Rei dos Mares
DESCRIPTION:Na mitologia grega, o deus Poseidon é o responsável pelas ondas e correntezas do mar. Na realidade, esses fenômenos são causados por outras causas naturais! Ouça o programa completo para descobrir mais sobre esse assunto.
LOCATION:
END:VEVENT
END:VCALENDAR
