BEGIN:VCALENDAR
VERSION:2.0
PRODID:-//Ciência no Ar - Programa de Extensão - UFMG
CALSCALE:GREGORIAN
METHOD:PUBLISH
X-WR-CALNAME:Ciência no Ar - Programa de Extensão - UFMG
X-ORIGINAL-URL:https://www.ufmg.br/ciencianoar/conteudo/1077/
X-WR-CALDESC:Afinal, o que é Ebola?
BEGIN:VEVENT
DTSTART:
DTEND:
SUMMARY:Afinal, o que é Ebola?
DESCRIPTION:Ebola é uma doença que possui graves sintomas, como, por exemplo, a febre hemorrágica. Ela é causada por um vírus do gênero Filovirus, conhecido por ser extremamente resistente. Ouça o programa completo para saber mais sobre esse assunto!

LOCATION:
END:VEVENT
END:VCALENDAR
