BEGIN:VCALENDAR
VERSION:2.0
PRODID:-//Ciência no Ar - Programa de Extensão - UFMG
CALSCALE:GREGORIAN
METHOD:PUBLISH
X-WR-CALNAME:Ciência no Ar - Programa de Extensão - UFMG
X-ORIGINAL-URL:https://www.ufmg.br/ciencianoar/conteudo/nervos-de-aco/
X-WR-CALDESC:Nervos de Aço
BEGIN:VEVENT
DTSTART:
DTEND:
SUMMARY:Nervos de Aço
DESCRIPTION:Você pode até ser forte, e resistir às dores do amor, mas é impossível ter nervos de aço de verdade, não é mesmo? Você sabe como funcionam os nervos no nosso corpo? É bem complexo! Ouça o programa todo e descubra mais sobre esse assunto. 
LOCATION:
END:VEVENT
END:VCALENDAR
