BEGIN:VCALENDAR
VERSION:2.0
PRODID:-//Ciência no Ar - Programa de Extensão - UFMG
CALSCALE:GREGORIAN
METHOD:PUBLISH
X-WR-CALNAME:Ciência no Ar - Programa de Extensão - UFMG
X-ORIGINAL-URL:https://www.ufmg.br/ciencianoar/conteudo/amores-imperfeitos/
X-WR-CALDESC:Amores Imperfeitos
BEGIN:VEVENT
DTSTART:
DTEND:
SUMMARY:Amores Imperfeitos
DESCRIPTION:Você já deve ter ouvido a expressão "relógio biológico." E sabia que esse relógio existe mesmo? Nosso corpo funciona de acordo com uma rotina e é regulado por vários fatores. Ter um relógio biológico regular é muito importante para a saúde e bem estar! Ouça o programa completo e saiba mais. 
LOCATION:
END:VEVENT
END:VCALENDAR
