BEGIN:VCALENDAR
VERSION:2.0
PRODID:-//Ciência no Ar - Programa de Extensão - UFMG
CALSCALE:GREGORIAN
METHOD:PUBLISH
X-WR-CALNAME:Ciência no Ar - Programa de Extensão - UFMG
X-ORIGINAL-URL:https://www.ufmg.br/ciencianoar/conteudo/trancoso/
X-WR-CALDESC:Trancoso
BEGIN:VEVENT
DTSTART:
DTEND:
SUMMARY:Trancoso
DESCRIPTION:Então, colocar a concha na orelha realmente possibilita ouvir o som do mar, ou é mito? Na verdade tem outra explicação! Ouça o programa completo e descubra. 
LOCATION:
END:VEVENT
END:VCALENDAR
