BEGIN:VCALENDAR
VERSION:2.0
PRODID:-//Ciência no Ar - Programa de Extensão - UFMG
CALSCALE:GREGORIAN
METHOD:PUBLISH
X-WR-CALNAME:Ciência no Ar - Programa de Extensão - UFMG
X-ORIGINAL-URL:https://www.ufmg.br/ciencianoar/conteudo/bichos-escrotos/
X-WR-CALDESC:Bichos escrotos
BEGIN:VEVENT
DTSTART:
DTEND:
SUMMARY:Bichos escrotos
DESCRIPTION:As ações do homem sobre a natureza podem modificar muito o ambiente onde certos animais vivem e se reproduzem. Isso pode fazer com que busquem outros cantos. 
Ouça o programa completo para saber mais sobre esse assunto!
LOCATION:
END:VEVENT
END:VCALENDAR
