BEGIN:VCALENDAR
VERSION:2.0
PRODID:-//Ciência no Ar - Programa de Extensão - UFMG
CALSCALE:GREGORIAN
METHOD:PUBLISH
X-WR-CALNAME:Ciência no Ar - Programa de Extensão - UFMG
X-ORIGINAL-URL:https://www.ufmg.br/ciencianoar/conteudo/chuva-de-brejo/
X-WR-CALDESC:Chuva de brejo
BEGIN:VEVENT
DTSTART:
DTEND:
SUMMARY:Chuva de brejo
DESCRIPTION:
LOCATION:
END:VEVENT
END:VCALENDAR
