BEGIN:VCALENDAR
VERSION:2.0
PRODID:-//Ciência no Ar - Programa de Extensão - UFMG
CALSCALE:GREGORIAN
METHOD:PUBLISH
X-WR-CALNAME:Ciência no Ar - Programa de Extensão - UFMG
X-ORIGINAL-URL:https://www.ufmg.br/ciencianoar/conteudo/envelhecer/
X-WR-CALDESC:Envelhecer
BEGIN:VEVENT
DTSTART:
DTEND:
SUMMARY:Envelhecer
DESCRIPTION:Para nós humanos, envelhecer não é uma questão fácil. Além de acharmos que deveríamos viver para sempre, ainda gostaríamos de não ter os sinais do envelhecimento, a pele que se enruga, a menor agilidade, a perda da memória e por aí vai. Não é de hoje que o homem busca a fórmula da longevidade. 
Ouça o programa completo para saber mais sobre esse assunto!
LOCATION:
END:VEVENT
END:VCALENDAR
