BEGIN:VCALENDAR
VERSION:2.0
PRODID:-//Ciência no Ar - Programa de Extensão - UFMG
CALSCALE:GREGORIAN
METHOD:PUBLISH
X-WR-CALNAME:Ciência no Ar - Programa de Extensão - UFMG
X-ORIGINAL-URL:https://www.ufmg.br/ciencianoar/conteudo/flor-do-reggae/
X-WR-CALDESC:Flor do reggae
BEGIN:VEVENT
DTSTART:
DTEND:
SUMMARY:Flor do reggae
DESCRIPTION:Você pode estar se perguntando o que os antigos gregos têm a ver com Biologia, ou o que as flores decorativas têm a ver com fertilidade. Bom, podemos garantir a você que tem tudo a ver e mais um pouco. É que as flores carregam o sistema reprodutor da maioria das plantas. 
Ouça o programa completo para saber mais sobre esse assunto!
LOCATION:
END:VEVENT
END:VCALENDAR
