BEGIN:VCALENDAR
VERSION:2.0
PRODID:-//Ciência no Ar - Programa de Extensão - UFMG
CALSCALE:GREGORIAN
METHOD:PUBLISH
X-WR-CALNAME:Ciência no Ar - Programa de Extensão - UFMG
X-ORIGINAL-URL:https://www.ufmg.br/ciencianoar/conteudo/anunciacao/
X-WR-CALDESC:Anunciação
BEGIN:VEVENT
DTSTART:
DTEND:
SUMMARY:Anunciação
DESCRIPTION:Ao ouvir a música de Alceu Valença, Anunciação, e qualquer outro som vários processos estão acontecendo para que você possa escutar... então continue ouvindo e descubra como funcionam os mecanismos da orelha com o programa completo! 
LOCATION:
END:VEVENT
END:VCALENDAR
