BEGIN:VCALENDAR
VERSION:2.0
PRODID:-//Ciência no Ar - Programa de Extensão - UFMG
CALSCALE:GREGORIAN
METHOD:PUBLISH
X-WR-CALNAME:Ciência no Ar - Programa de Extensão - UFMG
X-ORIGINAL-URL:https://www.ufmg.br/ciencianoar/conteudo/a-ra/
X-WR-CALDESC:A Rã
BEGIN:VEVENT
DTSTART:
DTEND:
SUMMARY:A Rã
DESCRIPTION:Junto com as pererecas sapos e rãs compõem o grupo dos anuros, que significa que são anfíbios sem rabo. Fora isso, os três possuem muitas diferenças na morfologia e no comportamento. 
Ouça o programa completo para saber mais sobre esse assunto!
LOCATION:
END:VEVENT
END:VCALENDAR
