BEGIN:VCALENDAR
VERSION:2.0
PRODID:-//Ciência no Ar - Programa de Extensão - UFMG
CALSCALE:GREGORIAN
METHOD:PUBLISH
X-WR-CALNAME:Ciência no Ar - Programa de Extensão - UFMG
X-ORIGINAL-URL:https://www.ufmg.br/ciencianoar/conteudo/borboletas/
X-WR-CALDESC:Borboletas
BEGIN:VEVENT
DTSTART:
DTEND:
SUMMARY:Borboletas
DESCRIPTION:O voo das borboletas é encantador, concorda? Mas você já parou para pensar no tipo de voo de cada borboleta? 
Ouça o programa completo para saber mais sobre esse assunto!
LOCATION:
END:VEVENT
END:VCALENDAR
