BEGIN:VCALENDAR
VERSION:2.0
PRODID:-//Ciência no Ar - Programa de Extensão - UFMG
CALSCALE:GREGORIAN
METHOD:PUBLISH
X-WR-CALNAME:Ciência no Ar - Programa de Extensão - UFMG
X-ORIGINAL-URL:https://www.ufmg.br/ciencianoar/conteudo/feliz-pra-cachorro/
X-WR-CALDESC:Feliz Pra Cachorro
BEGIN:VEVENT
DTSTART:
DTEND:
SUMMARY:Feliz Pra Cachorro
DESCRIPTION:O cachorro faz parte da família canídeos, mesma família em que estão as raposas e os lobos.
Ouça o programa completo para saber mais sobre esse assunto!
LOCATION:
END:VEVENT
END:VCALENDAR
