BEGIN:VCALENDAR
VERSION:2.0
PRODID:-//Ciência no Ar - Programa de Extensão - UFMG
CALSCALE:GREGORIAN
METHOD:PUBLISH
X-WR-CALNAME:Ciência no Ar - Programa de Extensão - UFMG
X-ORIGINAL-URL:https://www.ufmg.br/ciencianoar/conteudo/joao-de-barro/
X-WR-CALDESC:João-de-Barro
BEGIN:VEVENT
DTSTART:
DTEND:
SUMMARY:João-de-Barro
DESCRIPTION:O joão-de-barro além de ser um pássaro bonitinho é um engenheiro inteligente e voraz quanto se trata de construir a sua casinha! Ouça o programa completo para saber mais sobre esse assunto!
LOCATION:
END:VEVENT
END:VCALENDAR
