BEGIN:VCALENDAR
VERSION:2.0
PRODID:-//Ciência no Ar - Programa de Extensão - UFMG
CALSCALE:GREGORIAN
METHOD:PUBLISH
X-WR-CALNAME:Ciência no Ar - Programa de Extensão - UFMG
X-ORIGINAL-URL:https://www.ufmg.br/ciencianoar/conteudo/chule/
X-WR-CALDESC:Chulé
BEGIN:VEVENT
DTSTART:
DTEND:
SUMMARY:Chulé
DESCRIPTION:Não são só os palhacinhos Patati-Patatá, que sabem que o chulé incomoda muita gente. Incomoda tanto que tem muito cientista estudando como se forma o chulé e muita indústria de cosmético tentando achar a melhor maneira de acabar com ele.
Ouça o programa completo para saber mais sobre esse assunto!
LOCATION:
END:VEVENT
END:VCALENDAR
