BEGIN:VCALENDAR
VERSION:2.0
PRODID:-//Ciência no Ar - Programa de Extensão - UFMG
CALSCALE:GREGORIAN
METHOD:PUBLISH
X-WR-CALNAME:Ciência no Ar - Programa de Extensão - UFMG
X-ORIGINAL-URL:https://www.ufmg.br/ciencianoar/conteudo/sei-la/
X-WR-CALDESC:Sei lá
BEGIN:VEVENT
DTSTART:
DTEND:
SUMMARY:Sei lá
DESCRIPTION:Os micróbios são organismos tão pequenos que só conseguimos enxergar pelo microscópio. Mas apesar do tamanho esses seres são muito importantes para o meio ambiente. 
Ouça o programa completo para saber mais sobre esse assunto!

LOCATION:
END:VEVENT
END:VCALENDAR
