BEGIN:VCALENDAR
VERSION:2.0
PRODID:-//Ciência no Ar - Programa de Extensão - UFMG
CALSCALE:GREGORIAN
METHOD:PUBLISH
X-WR-CALNAME:Ciência no Ar - Programa de Extensão - UFMG
X-ORIGINAL-URL:https://www.ufmg.br/ciencianoar/conteudo/lagrimas/
X-WR-CALDESC:Lágrimas
BEGIN:VEVENT
DTSTART:
DTEND:
SUMMARY:Lágrimas
DESCRIPTION:Chorar de tristeza, chorar de dor, chorar de ansiedade, chorar de alegria...Mas de onde sai tanta água pra tanto choro?!
Ouça o programa completo para saber mais sobre esse assunto!

LOCATION:
END:VEVENT
END:VCALENDAR
