BEGIN:VCALENDAR
VERSION:2.0
PRODID:-//Ciência no Ar - Programa de Extensão - UFMG
CALSCALE:GREGORIAN
METHOD:PUBLISH
X-WR-CALNAME:Ciência no Ar - Programa de Extensão - UFMG
X-ORIGINAL-URL:https://www.ufmg.br/ciencianoar/conteudo/a-lua-2/
X-WR-CALDESC:A Lua
BEGIN:VEVENT
DTSTART:
DTEND:
SUMMARY:A Lua
DESCRIPTION:As fases da lua tem influência direta nas marés e há quem diga que a lua influência até mesmo no crescimento do nosso cabelo.
Ouça o programa completo para saber mais sobre esse assunto!
LOCATION:
END:VEVENT
END:VCALENDAR
