BEGIN:VCALENDAR
VERSION:2.0
PRODID:-//Ciência no Ar - Programa de Extensão - UFMG
CALSCALE:GREGORIAN
METHOD:PUBLISH
X-WR-CALNAME:Ciência no Ar - Programa de Extensão - UFMG
X-ORIGINAL-URL:https://www.ufmg.br/ciencianoar/conteudo/ensaboa-mulata/
X-WR-CALDESC:Ensaboa Mulata
BEGIN:VEVENT
DTSTART:
DTEND:
SUMMARY:Ensaboa Mulata
DESCRIPTION:Você sabe porque o sabão consegue limpar tão bem a sujeira? 
Ouça o programa completo para saber mais sobre esse assunto!
LOCATION:
END:VEVENT
END:VCALENDAR
