BEGIN:VCALENDAR
VERSION:2.0
PRODID:-//Ciência no Ar - Programa de Extensão - UFMG
CALSCALE:GREGORIAN
METHOD:PUBLISH
X-WR-CALNAME:Ciência no Ar - Programa de Extensão - UFMG
X-ORIGINAL-URL:https://www.ufmg.br/ciencianoar/conteudo/eu-bebo-sim/
X-WR-CALDESC:Eu bebo sim
BEGIN:VEVENT
DTSTART:
DTEND:
SUMMARY:Eu bebo sim
DESCRIPTION:O alcoolismo é uma doença crônica perigosa. E é justamente por isso que a ciência está ajudando a compreender as causas do alcoolismo para tentar diminuir os problemas causados por essa doença. 
Ouça o programa completo para saber mais sobre esse assunto!
LOCATION:
END:VEVENT
END:VCALENDAR
