BEGIN:VCALENDAR
VERSION:2.0
PRODID:-//Ciência no Ar - Programa de Extensão - UFMG
CALSCALE:GREGORIAN
METHOD:PUBLISH
X-WR-CALNAME:Ciência no Ar - Programa de Extensão - UFMG
X-ORIGINAL-URL:https://www.ufmg.br/ciencianoar/conteudo/ciranda-da-bailarina/
X-WR-CALDESC:Ciranda da bailarina
BEGIN:VEVENT
DTSTART:
DTEND:
SUMMARY:Ciranda da bailarina
DESCRIPTION:Você provavelmente já tomou muitas vacinas! E elas são importantíssimas para evitar uma série de doenças. Fique ligado e não deixe de conhecer um pouco sobre a história da vacina. 
Ouça o programa completo para saber mais sobre esse assunto!
LOCATION:
END:VEVENT
END:VCALENDAR
