BEGIN:VCALENDAR
VERSION:2.0
PRODID:-//Ciência no Ar - Programa de Extensão - UFMG
CALSCALE:GREGORIAN
METHOD:PUBLISH
X-WR-CALNAME:Ciência no Ar - Programa de Extensão - UFMG
X-ORIGINAL-URL:https://www.ufmg.br/ciencianoar/conteudo/farinha/
X-WR-CALDESC:Farinha
BEGIN:VEVENT
DTSTART:
DTEND:
SUMMARY:Farinha
DESCRIPTION:Mandioca, Macaxeira, Aipim, Maniva, Maniveira, Uaipi, Castelinha... Não importa o nome, o que importa mesmo é o sabor dessa raiz que está no cardápio de várias regiões do país.
Ouça o programa completo para saber mais sobre esse assunto!
LOCATION:
END:VEVENT
END:VCALENDAR
