BEGIN:VCALENDAR
VERSION:2.0
PRODID:-//Ciência no Ar - Programa de Extensão - UFMG
CALSCALE:GREGORIAN
METHOD:PUBLISH
X-WR-CALNAME:Ciência no Ar - Programa de Extensão - UFMG
X-ORIGINAL-URL:https://www.ufmg.br/ciencianoar/conteudo/rindo-a-toa/
X-WR-CALDESC:Rindo à Toa
BEGIN:VEVENT
DTSTART:
DTEND:
SUMMARY:Rindo à Toa
DESCRIPTION:Todo mundo já chorou por alguma razão, seja por tristeza, raiva ou felicidade. Esse choro por emoção intriga os cientistas, já que aparentemente não tem uma explicação fisiológica. 
Ouça o programa completo para saber mais sobre esse assunto!
LOCATION:
END:VEVENT
END:VCALENDAR
