BEGIN:VCALENDAR
VERSION:2.0
PRODID:-//Ciência no Ar - Programa de Extensão - UFMG
CALSCALE:GREGORIAN
METHOD:PUBLISH
X-WR-CALNAME:Ciência no Ar - Programa de Extensão - UFMG
X-ORIGINAL-URL:https://www.ufmg.br/ciencianoar/conteudo/as-baleias/
X-WR-CALDESC:As Baleias
BEGIN:VEVENT
DTSTART:
DTEND:
SUMMARY:As Baleias
DESCRIPTION:Você sabia que durante grande parte do século 20 as baleias foram caçadas indiscriminadamente? E que algumas espécies, como a baleia-azul, estiveram à beira da extinção, quando cerca de 99% delas foram mortas.
Ouça o programa completo para saber mais sobre esse assunto!
LOCATION:
END:VEVENT
END:VCALENDAR
