BEGIN:VCALENDAR
VERSION:2.0
PRODID:-//Ciência no Ar - Programa de Extensão - UFMG
CALSCALE:GREGORIAN
METHOD:PUBLISH
X-WR-CALNAME:Ciência no Ar - Programa de Extensão - UFMG
X-ORIGINAL-URL:https://www.ufmg.br/ciencianoar/conteudo/bananeira/
X-WR-CALDESC:Bananeira
BEGIN:VEVENT
DTSTART:
DTEND:
SUMMARY:Bananeira
DESCRIPTION:A bananeira produz um saboroso alimento de excelente valor nutricional, rico em fibras, potássio, vitaminas A, B, C... 
Ouça o programa completo para saber mais sobre esse assunto!
LOCATION:
END:VEVENT
END:VCALENDAR
