BEGIN:VCALENDAR
VERSION:2.0
PRODID:-//Ciência no Ar - Programa de Extensão - UFMG
CALSCALE:GREGORIAN
METHOD:PUBLISH
X-WR-CALNAME:Ciência no Ar - Programa de Extensão - UFMG
X-ORIGINAL-URL:https://www.ufmg.br/ciencianoar/conteudo/cabelo/
X-WR-CALDESC:Cabelo
BEGIN:VEVENT
DTSTART:
DTEND:
SUMMARY:Cabelo
DESCRIPTION:Já acordou num dia em que parece que seu cabelo está sem jeito, rebelde e não tem pente que o penteie? O pior é que existem doenças onde isso acontece todos os dias!
Ouça o programa completo para saber mais sobre esse assunto!
LOCATION:
END:VEVENT
END:VCALENDAR
