BEGIN:VCALENDAR
VERSION:2.0
PRODID:-//Ciência no Ar - Programa de Extensão - UFMG
CALSCALE:GREGORIAN
METHOD:PUBLISH
X-WR-CALNAME:Ciência no Ar - Programa de Extensão - UFMG
X-ORIGINAL-URL:https://www.ufmg.br/ciencianoar/conteudo/cabelos-longos/
X-WR-CALDESC:Cabelos Longos
BEGIN:VEVENT
DTSTART:
DTEND:
SUMMARY:Cabelos Longos
DESCRIPTION:Cabelo curto, cabelo longo. Cabelo preto cabelo louro... Seja ele como for o cabelo é um fio formado por uma proteína chamada de queratina.
Ouça o programa completo para saber mais sobre esse assunto!
LOCATION:
END:VEVENT
END:VCALENDAR
