BEGIN:VCALENDAR
VERSION:2.0
PRODID:-//Ciência no Ar - Programa de Extensão - UFMG
CALSCALE:GREGORIAN
METHOD:PUBLISH
X-WR-CALNAME:Ciência no Ar - Programa de Extensão - UFMG
X-ORIGINAL-URL:https://www.ufmg.br/ciencianoar/conteudo/cicatrizes/
X-WR-CALDESC:Cicatrizes
BEGIN:VEVENT
DTSTART:
DTEND:
SUMMARY:Cicatrizes
DESCRIPTION:Nesta canção o poeta nos remete a uma ferida feita pelo amor que nunca foi curada nem cicatrizada. O normal no nosso corpo é que os cortes, feridas ou queimaduras passem pelo processo de cicatrização. Este processo de cura natural é dividido em fases distintas pelos cientistas.
Ouça o programa completo para saber mais sobre esse assunto!
LOCATION:
END:VEVENT
END:VCALENDAR
