BEGIN:VCALENDAR
VERSION:2.0
PRODID:-//Ciência no Ar - Programa de Extensão - UFMG
CALSCALE:GREGORIAN
METHOD:PUBLISH
X-WR-CALNAME:Ciência no Ar - Programa de Extensão - UFMG
X-ORIGINAL-URL:https://www.ufmg.br/ciencianoar/conteudo/pose/
X-WR-CALDESC:Pose
BEGIN:VEVENT
DTSTART:
DTEND:
SUMMARY:Pose
DESCRIPTION:O que acontece com o nosso corpo quando sentimos frio? E quando sentimos calor?
Ouça o programa completo para saber mais sobre esse assunto!
LOCATION:
END:VEVENT
END:VCALENDAR
