BEGIN:VCALENDAR
VERSION:2.0
PRODID:-//Ciência no Ar - Programa de Extensão - UFMG
CALSCALE:GREGORIAN
METHOD:PUBLISH
X-WR-CALNAME:Ciência no Ar - Programa de Extensão - UFMG
X-ORIGINAL-URL:https://www.ufmg.br/ciencianoar/conteudo/voce-e-linda/
X-WR-CALDESC:Você é Linda
BEGIN:VEVENT
DTSTART:
DTEND:
SUMMARY:Você é Linda
DESCRIPTION:Você já deve ter ouvido falar na acácia, uma árvore bem conhecida. Mas essa planta tem muitas características interessantes, e você fica sabendo quais são ouvindo o programa completo! 
LOCATION:
END:VEVENT
END:VCALENDAR
