BEGIN:VCALENDAR
VERSION:2.0
PRODID:-//Ciência no Ar - Programa de Extensão - UFMG
CALSCALE:GREGORIAN
METHOD:PUBLISH
X-WR-CALNAME:Ciência no Ar - Programa de Extensão - UFMG
X-ORIGINAL-URL:https://www.ufmg.br/ciencianoar/conteudo/como-uma-onda/
X-WR-CALDESC:Como uma onda
BEGIN:VEVENT
DTSTART:
DTEND:
SUMMARY:Como uma onda
DESCRIPTION:Por que em alguns dias o mar tem tantas ondas enquanto em outros quase nenhuma?
Ouça o programa completo para saber mais sobre esse assunto!
LOCATION:
END:VEVENT
END:VCALENDAR
