BEGIN:VCALENDAR
VERSION:2.0
PRODID:-//Ciência no Ar - Programa de Extensão - UFMG
CALSCALE:GREGORIAN
METHOD:PUBLISH
X-WR-CALNAME:Ciência no Ar - Programa de Extensão - UFMG
X-ORIGINAL-URL:https://www.ufmg.br/ciencianoar/conteudo/segue-o-seco/
X-WR-CALDESC:Segue o Seco
BEGIN:VEVENT
DTSTART:
DTEND:
SUMMARY:Segue o Seco
DESCRIPTION:Você já parou pra pensar por que algumas plantas têm espinhos? Ou melhor...você sabe identificar um espinho?
Ouça o programa completo para saber mais sobre esse assunto!
LOCATION:
END:VEVENT
END:VCALENDAR
