BEGIN:VCALENDAR
VERSION:2.0
PRODID:-//Ciência no Ar - Programa de Extensão - UFMG
CALSCALE:GREGORIAN
METHOD:PUBLISH
X-WR-CALNAME:Ciência no Ar - Programa de Extensão - UFMG
X-ORIGINAL-URL:https://www.ufmg.br/ciencianoar/conteudo/a-formula-do-amor/
X-WR-CALDESC:A fórmula do amor
BEGIN:VEVENT
DTSTART:
DTEND:
SUMMARY:A fórmula do amor
DESCRIPTION:E se eu te contar que, assim como sugere Leoni em sua canção, existe mesmo uma fórmula química para o amor?

Ouça o programa completo para saber mais sobre esse assunto!
LOCATION:
END:VEVENT
END:VCALENDAR
