BEGIN:VCALENDAR
VERSION:2.0
PRODID:-//Ciência no Ar - Programa de Extensão - UFMG
CALSCALE:GREGORIAN
METHOD:PUBLISH
X-WR-CALNAME:Ciência no Ar - Programa de Extensão - UFMG
X-ORIGINAL-URL:https://www.ufmg.br/ciencianoar/conteudo/tendo-a-lua/
X-WR-CALDESC:Tendo a Lua
BEGIN:VEVENT
DTSTART:
DTEND:
SUMMARY:Tendo a Lua
DESCRIPTION:Desde tempos remotos a Lua exerce um grande fascínio nos seres humanos. Há quem corte os cabelos somente em Lua Nova, para “renovar” os fios de cabelos...
Ouça o programa completo para saber mais sobre esse assunto!
LOCATION:
END:VEVENT
END:VCALENDAR
