BEGIN:VCALENDAR
VERSION:2.0
PRODID:-//Ciência no Ar - Programa de Extensão - UFMG
CALSCALE:GREGORIAN
METHOD:PUBLISH
X-WR-CALNAME:Ciência no Ar - Programa de Extensão - UFMG
X-ORIGINAL-URL:https://www.ufmg.br/ciencianoar/conteudo/nao-me-deixe-so/
X-WR-CALDESC:Não me deixe só
BEGIN:VEVENT
DTSTART:
DTEND:
SUMMARY:Não me deixe só
DESCRIPTION:Existem diversos tipos de medo e um bastante conhecido é o medo do escuro! Muita gente acha que o medo do escuro é  coisa boba de criança, mas a ciência explica que ter medo disso não é bobagem nenhuma!
Ouça o programa completo para saber mais sobre esse assunto!
LOCATION:
END:VEVENT
END:VCALENDAR
