BEGIN:VCALENDAR
VERSION:2.0
PRODID:-//Ciência no Ar - Programa de Extensão - UFMG
CALSCALE:GREGORIAN
METHOD:PUBLISH
X-WR-CALNAME:Ciência no Ar - Programa de Extensão - UFMG
X-ORIGINAL-URL:https://www.ufmg.br/ciencianoar/conteudo/o-cio-da-terra/
X-WR-CALDESC:O Cio da Terra
BEGIN:VEVENT
DTSTART:
DTEND:
SUMMARY:O Cio da Terra
DESCRIPTION:Ah! Que saudade daquele tempo em que para se alimentar só precisava  ir ali no quintal e pegar legume delicioso para acrescentar em uma sopa! Antigamente o ciclo da terra era algo seguido e extremamente respeitado.  Hoje em dia, são poucas as pessoas que procuram entender como a Mãe Natureza funciona. Por isso, é bem difícil para o consumidor encontrar alimentos frescos que estão livres de agrotóxicos ou de fertilizantes não é mesmo? Mas porque é tão incomum hoje em dia encontrar nas prateleiras do supermercado produtos sem essas alterações químicas? Ouça o programa completo para saber mais sobre esse assunto!
LOCATION:
END:VEVENT
END:VCALENDAR
