BEGIN:VCALENDAR
VERSION:2.0
PRODID:-//Ciência no Ar - Programa de Extensão - UFMG
CALSCALE:GREGORIAN
METHOD:PUBLISH
X-WR-CALNAME:Ciência no Ar - Programa de Extensão - UFMG
X-ORIGINAL-URL:https://www.ufmg.br/ciencianoar/conteudo/a-historia-do-plasmodio/
X-WR-CALDESC:A História do Plasmódio
BEGIN:VEVENT
DTSTART:
DTEND:
SUMMARY:A História do Plasmódio
DESCRIPTION:Você se lembra do plasmódio? Ele é um ser microscópio causador da malária! 
Ouça o programa completo para saber mais sobre esse assunto!
LOCATION:
END:VEVENT
END:VCALENDAR
