BEGIN:VCALENDAR
VERSION:2.0
PRODID:-//Ciência no Ar - Programa de Extensão - UFMG
CALSCALE:GREGORIAN
METHOD:PUBLISH
X-WR-CALNAME:Ciência no Ar - Programa de Extensão - UFMG
X-ORIGINAL-URL:https://www.ufmg.br/ciencianoar/conteudo/folhas-de-outono/
X-WR-CALDESC:Folhas de Outono
BEGIN:VEVENT
DTSTART:
DTEND:
SUMMARY:Folhas de Outono
DESCRIPTION:É engraçado quando o frio chega e todo mundo passa a usar os agasalhos que estavam guardados dentro do guarda roupa não é mesmo? Cada um dá seu jeitinho...os humanos se agasalham, alguns animais ficam mais tempo em suas casas para se aquecerem, outros podem sair até mesmo na neve já que as suas pelagens conseguem suportar um frio de bater o queixo! Mas e as plantas? Como elas se preparam para um inverno rigoroso que vem depois do outono?  Ouça o programa completo para saber mais sobre esse assunto!
LOCATION:
END:VEVENT
END:VCALENDAR
