BEGIN:VCALENDAR
VERSION:2.0
PRODID:-//Ciência no Ar - Programa de Extensão - UFMG
CALSCALE:GREGORIAN
METHOD:PUBLISH
X-WR-CALNAME:Ciência no Ar - Programa de Extensão - UFMG
X-ORIGINAL-URL:https://www.ufmg.br/ciencianoar/conteudo/folhas-secas/
X-WR-CALDESC:Folhas Secas
BEGIN:VEVENT
DTSTART:
DTEND:
SUMMARY:Folhas Secas
DESCRIPTION:É bem comum no outono e inverno ter aquele tapete de folhas secas no chão. E é uma sensação prazerosa pisar nesse tapete! Mas você já percebeu que nem todas as árvores perdem as suas folhas no período de frio? Isso acontece porque há uma grande diferença entre esses tipos de plantas! Ouça o programa completo para saber mais sobre esse assunto!
LOCATION:
END:VEVENT
END:VCALENDAR
