BEGIN:VCALENDAR
VERSION:2.0
PRODID:-//Ciência no Ar - Programa de Extensão - UFMG
CALSCALE:GREGORIAN
METHOD:PUBLISH
X-WR-CALNAME:Ciência no Ar - Programa de Extensão - UFMG
X-ORIGINAL-URL:https://www.ufmg.br/ciencianoar/conteudo/bate-coracao/
X-WR-CALDESC:Bate coração
BEGIN:VEVENT
DTSTART:
DTEND:
SUMMARY:Bate coração
DESCRIPTION:Você já deve ter sentido seu coração bater mais rápido depois de tomar muito café ou bebidas alcoólicas, ou quando passou por um momento de grande estresse.
Ouça o programa completo para saber mais sobre esse assunto!
LOCATION:
END:VEVENT
END:VCALENDAR
