BEGIN:VCALENDAR
VERSION:2.0
PRODID:-//Ciência no Ar - Programa de Extensão - UFMG
CALSCALE:GREGORIAN
METHOD:PUBLISH
X-WR-CALNAME:Ciência no Ar - Programa de Extensão - UFMG
X-ORIGINAL-URL:https://www.ufmg.br/ciencianoar/conteudo/celulas-especiais/
X-WR-CALDESC:Células especiais
BEGIN:VEVENT
DTSTART:
DTEND:
SUMMARY:Células especiais
DESCRIPTION:Todo dia ouvimos falar de célula tronco. O assunto virou moda, não é mesmo? Mas você sabe dizer o que é uma célula tronco? 
Ouça o programa completo para saber mais sobre esse assunto!
LOCATION:
END:VEVENT
END:VCALENDAR
