BEGIN:VCALENDAR
VERSION:2.0
PRODID:-//Ciência no Ar - Programa de Extensão - UFMG
CALSCALE:GREGORIAN
METHOD:PUBLISH
X-WR-CALNAME:Ciência no Ar - Programa de Extensão - UFMG
X-ORIGINAL-URL:https://www.ufmg.br/ciencianoar/conteudo/colecionando-sapos-e-cobras/
X-WR-CALDESC:Colecionando sapos e cobras
BEGIN:VEVENT
DTSTART:
DTEND:
SUMMARY:Colecionando sapos e cobras
DESCRIPTION:Moedas, selos, figurinhas, conchas,  obras de arte...sapos e cobras! Colecionar coisas é um hábito que muita gente tem, mas você já ouviu falar em uma coleção de répteis?
Ouça o programa completo para saber mais sobre esse assunto!
LOCATION:
END:VEVENT
END:VCALENDAR
