BEGIN:VCALENDAR
VERSION:2.0
PRODID:-//Ciência no Ar - Programa de Extensão - UFMG
CALSCALE:GREGORIAN
METHOD:PUBLISH
X-WR-CALNAME:Ciência no Ar - Programa de Extensão - UFMG
X-ORIGINAL-URL:https://www.ufmg.br/ciencianoar/conteudo/colesterol/
X-WR-CALDESC:Colesterol
BEGIN:VEVENT
DTSTART:
DTEND:
SUMMARY:Colesterol
DESCRIPTION:O colesterol, um derivado das gorduras, é encontrado em carnes, ovos, leite e outros alimentos de origem animal, mas, ele também é produzido pelo nosso próprio organismo.
Ouça o programa completo para saber mais sobre esse assunto!
LOCATION:
END:VEVENT
END:VCALENDAR
