BEGIN:VCALENDAR
VERSION:2.0
PRODID:-//Ciência no Ar - Programa de Extensão - UFMG
CALSCALE:GREGORIAN
METHOD:PUBLISH
X-WR-CALNAME:Ciência no Ar - Programa de Extensão - UFMG
X-ORIGINAL-URL:https://www.ufmg.br/ciencianoar/conteudo/comer-e-pensar/
X-WR-CALDESC:Comer e pensar
BEGIN:VEVENT
DTSTART:
DTEND:
SUMMARY:Comer e pensar
DESCRIPTION:Você sabia que cerca de 70% da energia de um alimento é usada para fazer seu cérebro funcionar? Não?! 
Ouça o programa completo para saber mais sobre esse assunto!
LOCATION:
END:VEVENT
END:VCALENDAR
