BEGIN:VCALENDAR
VERSION:2.0
PRODID:-//Ciência no Ar - Programa de Extensão - UFMG
CALSCALE:GREGORIAN
METHOD:PUBLISH
X-WR-CALNAME:Ciência no Ar - Programa de Extensão - UFMG
X-ORIGINAL-URL:https://www.ufmg.br/ciencianoar/conteudo/como-a-vacina-funciona/
X-WR-CALDESC:Como a vacina funciona
BEGIN:VEVENT
DTSTART:
DTEND:
SUMMARY:Como a vacina funciona
DESCRIPTION:Você com certeza já tomou alguma vacina. Mas, você sabe o que acontece quando é vacinado?
Ouça o programa completo para saber mais sobre esse assunto!
LOCATION:
END:VEVENT
END:VCALENDAR
