BEGIN:VCALENDAR
VERSION:2.0
PRODID:-//Ciência no Ar - Programa de Extensão - UFMG
CALSCALE:GREGORIAN
METHOD:PUBLISH
X-WR-CALNAME:Ciência no Ar - Programa de Extensão - UFMG
X-ORIGINAL-URL:https://www.ufmg.br/ciencianoar/conteudo/conhecendo-a-historia-do-jacaranda/
X-WR-CALDESC:Conhecendo a história do jacarandá
BEGIN:VEVENT
DTSTART:
DTEND:
SUMMARY:Conhecendo a história do jacarandá
DESCRIPTION:Há muitos anos, toda a costa do nosso país era coberta pela Mata Atlântica, com toda a sua diversidade de espécies. Mas hoje é bem diferente... Toda essa riqueza está acabando e os animais e vegetais correm risco de extinção. 
Ouça o programa completo para saber mais sobre esse assunto!
LOCATION:
END:VEVENT
END:VCALENDAR
