BEGIN:VCALENDAR
VERSION:2.0
PRODID:-//Ciência no Ar - Programa de Extensão - UFMG
CALSCALE:GREGORIAN
METHOD:PUBLISH
X-WR-CALNAME:Ciência no Ar - Programa de Extensão - UFMG
X-ORIGINAL-URL:https://www.ufmg.br/ciencianoar/conteudo/controlando-a-malaria/
X-WR-CALDESC:Controlando a Malária
BEGIN:VEVENT
DTSTART:
DTEND:
SUMMARY:Controlando a Malária
DESCRIPTION:Dentre as muitas doenças causadas por parasitos, existe uma que é a campeã em número de pessoas atingidas. Sabe qual é?
Ouça o programa completo para saber mais sobre esse assunto!
LOCATION:
END:VEVENT
END:VCALENDAR
