BEGIN:VCALENDAR
VERSION:2.0
PRODID:-//Ciência no Ar - Programa de Extensão - UFMG
CALSCALE:GREGORIAN
METHOD:PUBLISH
X-WR-CALNAME:Ciência no Ar - Programa de Extensão - UFMG
X-ORIGINAL-URL:https://www.ufmg.br/ciencianoar/conteudo/controle-de-parasitoses/
X-WR-CALDESC:Controle de Parasitoses
BEGIN:VEVENT
DTSTART:
DTEND:
SUMMARY:Controle de Parasitoses
DESCRIPTION:Todos nós já fomos parasitados alguma vez na vida, seja por uma pulga, um pernilongo ou até mesmo por algum verme, não é verdade? 
Ouça o programa completo para saber mais sobre esse assunto!
LOCATION:
END:VEVENT
END:VCALENDAR
